BEGIN:VCALENDAR
VERSION:2.0
PRODID:-//Western Council of Construction Consumers - ECPv6.15.20//NONSGML v1.0//EN
CALSCALE:GREGORIAN
METHOD:PUBLISH
X-WR-CALNAME:Western Council of Construction Consumers
X-ORIGINAL-URL:https://westerncouncil.org
X-WR-CALDESC:Events for Western Council of Construction Consumers
REFRESH-INTERVAL;VALUE=DURATION:PT1H
X-Robots-Tag:noindex
X-PUBLISHED-TTL:PT1H
BEGIN:VTIMEZONE
TZID:America/Los_Angeles
BEGIN:DAYLIGHT
TZOFFSETFROM:-0800
TZOFFSETTO:-0700
TZNAME:PDT
DTSTART:20220313T100000
END:DAYLIGHT
BEGIN:STANDARD
TZOFFSETFROM:-0700
TZOFFSETTO:-0800
TZNAME:PST
DTSTART:20221106T090000
END:STANDARD
BEGIN:DAYLIGHT
TZOFFSETFROM:-0800
TZOFFSETTO:-0700
TZNAME:PDT
DTSTART:20230312T100000
END:DAYLIGHT
BEGIN:STANDARD
TZOFFSETFROM:-0700
TZOFFSETTO:-0800
TZNAME:PST
DTSTART:20231105T090000
END:STANDARD
BEGIN:DAYLIGHT
TZOFFSETFROM:-0800
TZOFFSETTO:-0700
TZNAME:PDT
DTSTART:20240310T100000
END:DAYLIGHT
BEGIN:STANDARD
TZOFFSETFROM:-0700
TZOFFSETTO:-0800
TZNAME:PST
DTSTART:20241103T090000
END:STANDARD
END:VTIMEZONE
BEGIN:VEVENT
DTSTART;TZID=America/Los_Angeles:20230727T100000
DTEND;TZID=America/Los_Angeles:20230727T110000
DTSTAMP:20260425T083457
CREATED:20230419T234450Z
LAST-MODIFIED:20230519T222003Z
UID:1470-1690452000-1690455600@westerncouncil.org
SUMMARY:Carbon Estimating - Why?  How?
DESCRIPTION:The built environment creates nearly 40% of all CO2 emissions globally.  As multiple forces converge in the US\, there is an urgent need to understand\, measure and reduce all greenhouse gas (GHG) emissions our industry produces.  Such as: \n\nMore stringent environmental\, social\, governance (ESG) issues reporting \nIncreasing local and federal\, climate legislation \nPublished corporate NetZero Carbon Targets\nConsumer demands to truly address climate change and stop “greenwashing”\n\nDe-carbonizing the built environment needs to become a core component of how all of us do business if we want to truly address climate change. \nSustainability is a concern for Owners\, as well as the design\, engineering\, construction\, and maintenance professionals who help them meet their construction and operation needs.  Reducing carbon emitted by your build programs and operations could greatly reduce your organization’s overall carbon footprint. \nWhole life carbon estimating is a tool you can use to get you much closer to your carbon net zero goals. \nThis webinar will address the following: \n\nWhy use carbon estimating?\nBroad applications of carbon estimating\nWhy Whole Life Carbon Estimating?\nConsiderations when implementing whole life carbon estimating\n\n  \nINSTRUCTORS:   \nAs Director of Sustainability – Americas\, Mark Wartenberg is developing sustainability services with a focus on helping clients de-carbonize both construction projects and existing buildings.  WLCM helps clients balance all project constraints (scope\, schedule\, budget\, risk) while integrating carbon as a constraint.  Analyzing the carbon impact of build programs\, while also considering cost and schedule impacts\, helps owners make informed decisions across their portfolios. \nHayley Carroll is a Senior Estimator and Whole-Life Carbon Estimating Lead – Americas and technical lead for Currie & Brown’s whole-life carbon estimating (WLCE) service\, a key division of the greater Whole Life Carbon Management (WLCM) service.  Her background is in cost estimating\, specializing in complex piping systems within the high-tech sector with experience on projects ranging from $1 million to $6 billon. \n  \nRegister a team of 3 or more from your organization and save $15 each! \n\nSee Flyer for complete details and registration information. \nRSVP using the form below and you will be sent a link to pay for your registration.
URL:https://westerncouncil.org/event/carbon-estimating-why-how/
CATEGORIES:Webinar
ATTACH;FMTTYPE=image/png:https://westerncouncil.org/wp-content/uploads/2021/10/webinar-320x180-1.png
ORGANIZER;CN="Valerie Largin":MAILTO:vann@wccc.org
END:VEVENT
END:VCALENDAR