BEGIN:VCALENDAR
VERSION:2.0
PRODID:-//Western Council of Construction Consumers - ECPv6.15.20//NONSGML v1.0//EN
CALSCALE:GREGORIAN
METHOD:PUBLISH
X-ORIGINAL-URL:https://westerncouncil.org
X-WR-CALDESC:Events for Western Council of Construction Consumers
REFRESH-INTERVAL;VALUE=DURATION:PT1H
X-Robots-Tag:noindex
X-PUBLISHED-TTL:PT1H
BEGIN:VTIMEZONE
TZID:America/Los_Angeles
BEGIN:DAYLIGHT
TZOFFSETFROM:-0800
TZOFFSETTO:-0700
TZNAME:PDT
DTSTART:20220313T100000
END:DAYLIGHT
BEGIN:STANDARD
TZOFFSETFROM:-0700
TZOFFSETTO:-0800
TZNAME:PST
DTSTART:20221106T090000
END:STANDARD
BEGIN:DAYLIGHT
TZOFFSETFROM:-0800
TZOFFSETTO:-0700
TZNAME:PDT
DTSTART:20230312T100000
END:DAYLIGHT
BEGIN:STANDARD
TZOFFSETFROM:-0700
TZOFFSETTO:-0800
TZNAME:PST
DTSTART:20231105T090000
END:STANDARD
BEGIN:DAYLIGHT
TZOFFSETFROM:-0800
TZOFFSETTO:-0700
TZNAME:PDT
DTSTART:20240310T100000
END:DAYLIGHT
BEGIN:STANDARD
TZOFFSETFROM:-0700
TZOFFSETTO:-0800
TZNAME:PST
DTSTART:20241103T090000
END:STANDARD
END:VTIMEZONE
BEGIN:VEVENT
DTSTART;TZID=America/Los_Angeles:20230126T074500
DTEND;TZID=America/Los_Angeles:20230126T153000
DTSTAMP:20260425T173258
CREATED:20220802T194634Z
LAST-MODIFIED:20230119T170846Z
UID:1256-1674719100-1674747000@westerncouncil.org
SUMMARY:Virtual – 9th Annual Western Council PROJECT CONTROLS SUMMIT
DESCRIPTION:Time\, Cost\, Data\, and Value are key issues in Project Controls.  This yearly Summit covers a variety of related topics.  See Agenda below. \nWe are currently accepting Sponsors for this SUMMIT.  Sponsors can enjoy some unique benefits before\, during\, and after the SUMMIT. \nRegister now and SAVE! \nWCCC Member:  $175     After Jan. 20th:  $190\nSave $15 each by registering a WCCC Member Team of 3 or more \nNon-Member:   $200     After Jan. 20th:  $215\nSave $15 each by registering a Non-Member Team of 3 or more \nSee Order Form for details and instructions:   \nRegister Sponsor & Ads Order Form \n2023 SUMMIT AGENDA \nTales From the Claims Crypt – Lessons Learned   Jim Zack – James Zack Consulting \nSchedule: Owner’s Road to Success – The Path is Never Straight Forward  Gregg Smith\, Currie & Brown \nTurning Red Flags to Green:  An Owner’s Approach for Schedule Oversight and Claims Avoidance  Chris Smith\, Exponent \nThe Right Start – A Conscious Approach to RFPs  Ken Jones \nPANEL:  Cents and Sensibility:  The Dollars and Cents of Claims Avoidance  John Gibson\, Hill International\, Inc.; Jennifer A. Guy\, Hilton; Mary Kay Monville\, Swinerton\, Inc.; Mary A. Salmone\, Procopio \nWhole Life Carbon Estimating  Hayley Carroll\, Currie & Brown \nAre You Really Ready to Get Ready?  Assessing Your Organization’s Resources  Larry Hammond Sr.\, V1H Consulting \nThe Construction Cost Crystal Ball – More Pain or Is Relief in Sight?  Mark Fergus\, Cumming Corporation
URL:https://westerncouncil.org/event/virtual-9th-annual-western-council-project-controls-summit/
ATTACH;FMTTYPE=image/jpeg:https://westerncouncil.org/wp-content/uploads/2022/06/2023-PC-Summit-Banner-Logo-for-Website.jpg
ORGANIZER;CN="Valerie Largin":MAILTO:vann@wccc.org
END:VEVENT
END:VCALENDAR