BEGIN:VCALENDAR
VERSION:2.0
PRODID:-//Western Council of Construction Consumers - ECPv6.15.20//NONSGML v1.0//EN
CALSCALE:GREGORIAN
METHOD:PUBLISH
X-ORIGINAL-URL:https://westerncouncil.org
X-WR-CALDESC:Events for Western Council of Construction Consumers
REFRESH-INTERVAL;VALUE=DURATION:PT1H
X-Robots-Tag:noindex
X-PUBLISHED-TTL:PT1H
BEGIN:VTIMEZONE
TZID:America/Los_Angeles
BEGIN:DAYLIGHT
TZOFFSETFROM:-0800
TZOFFSETTO:-0700
TZNAME:PDT
DTSTART:20210314T100000
END:DAYLIGHT
BEGIN:STANDARD
TZOFFSETFROM:-0700
TZOFFSETTO:-0800
TZNAME:PST
DTSTART:20211107T090000
END:STANDARD
BEGIN:DAYLIGHT
TZOFFSETFROM:-0800
TZOFFSETTO:-0700
TZNAME:PDT
DTSTART:20220313T100000
END:DAYLIGHT
BEGIN:STANDARD
TZOFFSETFROM:-0700
TZOFFSETTO:-0800
TZNAME:PST
DTSTART:20221106T090000
END:STANDARD
BEGIN:DAYLIGHT
TZOFFSETFROM:-0800
TZOFFSETTO:-0700
TZNAME:PDT
DTSTART:20230312T100000
END:DAYLIGHT
BEGIN:STANDARD
TZOFFSETFROM:-0700
TZOFFSETTO:-0800
TZNAME:PST
DTSTART:20231105T090000
END:STANDARD
END:VTIMEZONE
BEGIN:VEVENT
DTSTART;TZID=America/Los_Angeles:20221103T080000
DTEND;TZID=America/Los_Angeles:20221103T100000
DTSTAMP:20260425T202435
CREATED:20211219T031237Z
LAST-MODIFIED:20230119T170647Z
UID:476-1667462400-1667469600@westerncouncil.org
SUMMARY:Project Partnering: A Way to Reduce Claims & Disputes
DESCRIPTION:Project partnering is one of the most effective tools in the construction management process used to deliver successful projects — that complete on time\, in budget\, safely\, with the specified quality\, and no outstanding disputes end of job. Construction Managers are frequently leaders in convincing owners to adopt project partnering and must be involved in the entire process for partnering to be successful. \nWe will discuss results of a study concerning the cost and success of project partnering with respect to minimizing construction disputes.  We will also identify the characteristics\, drivers\, phases\, and elements of successful partnering.  Obstacles to\, and potential downsides of\, successful partnering are covered along with benefits realized from successful project partnering. \nThis webinar identifies and discusses eight case studies across the country to discover whether partnering actually reduces disputes\, while illustrating the “best in class” partnering results. \nParticipants will: \n\nBe aware of what project partnering is and is not\nUnderstand the characteristics\, drivers\, phases\, and necessary elements required to make partnering a success on a construction project\nBecome familiar with the obstacles and potential downsides of partnering\nBe exposed to the costs of partnering on average projects\nLearn about the benefits of successful project partnering based on a number of case studies\nDiscover the “best in class” partnering results\n\n  \nInstructor: James G. Zack\, Jr. is Principal of James Zack Consulting\, LLC\, a construction claims consultancy dedicated to helping Owners and Contractors complete projects in the field\, not arbitration or court. He is a recognized\, published expert in mitigation\, analysis\, and resolution or defense of construction claims and disputes. In his 49-year career\, he has been involved in public and private projects throughout the U.S. and 39 countries\, working with Owners and Contractors on 5\,000+ claims. \nRegister a team of 3 or more from your organization and save $15 each! \nSee Flyer for complete details and registration information. \nRSVP and you will be sent a link to pay for your registration.
URL:https://westerncouncil.org/event/project-partnering-a-way-to-reduce-claims-disputes/
CATEGORIES:Webinar
ATTACH;FMTTYPE=image/png:https://westerncouncil.org/wp-content/uploads/2022/02/ViewpointsSeriesGraphic2.png
ORGANIZER;CN="Valerie Largin":MAILTO:vann@wccc.org
END:VEVENT
END:VCALENDAR