BEGIN:VCALENDAR
VERSION:2.0
PRODID:-//Western Council of Construction Consumers - ECPv6.15.20//NONSGML v1.0//EN
CALSCALE:GREGORIAN
METHOD:PUBLISH
X-ORIGINAL-URL:https://westerncouncil.org
X-WR-CALDESC:Events for Western Council of Construction Consumers
REFRESH-INTERVAL;VALUE=DURATION:PT1H
X-Robots-Tag:noindex
X-PUBLISHED-TTL:PT1H
BEGIN:VTIMEZONE
TZID:America/Los_Angeles
BEGIN:DAYLIGHT
TZOFFSETFROM:-0800
TZOFFSETTO:-0700
TZNAME:PDT
DTSTART:20250309T100000
END:DAYLIGHT
BEGIN:STANDARD
TZOFFSETFROM:-0700
TZOFFSETTO:-0800
TZNAME:PST
DTSTART:20251102T090000
END:STANDARD
BEGIN:DAYLIGHT
TZOFFSETFROM:-0800
TZOFFSETTO:-0700
TZNAME:PDT
DTSTART:20260308T100000
END:DAYLIGHT
BEGIN:STANDARD
TZOFFSETFROM:-0700
TZOFFSETTO:-0800
TZNAME:PST
DTSTART:20261101T090000
END:STANDARD
BEGIN:DAYLIGHT
TZOFFSETFROM:-0800
TZOFFSETTO:-0700
TZNAME:PDT
DTSTART:20270314T100000
END:DAYLIGHT
BEGIN:STANDARD
TZOFFSETFROM:-0700
TZOFFSETTO:-0800
TZNAME:PST
DTSTART:20271107T090000
END:STANDARD
END:VTIMEZONE
BEGIN:VEVENT
DTSTART;TZID=America/Los_Angeles:20260305T090000
DTEND;TZID=America/Los_Angeles:20260305T110000
DTSTAMP:20260423T162002
CREATED:20260218T110442Z
LAST-MODIFIED:20260218T112209Z
UID:2202-1772701200-1772708400@westerncouncil.org
SUMMARY:Broadcast Webinar - Overview of Construction Claims & Disputes
DESCRIPTION:This webinar discusses the 11 basic types of construction claims included in most standard contracts used in the U.S. (AIA\, ConsensusDocs\, EJCDC\, etc.): directed changes; constructive changes; differing site conditions; directed suspensions of work; constructive suspensions; force majeure events; delays; accelerations; constructive accelerations; terminations for convenience; and terminations for default \nFor each type of claim\, it outlines: \n\nentitlement and causation elements claimants must demonstrate to justify their right to prevail and recover damages\nelements of the burden of proof required of all claimants\nBasic requirements concerning damages\n\nIt also identifies several types of owner claims against contractors\, discuss claims under various project delivery methods\, and summarize accepted claims preparation and analysis methodology.  It conclude with an outline of various dispute resolution methodologies. \nThis webinar will help attendees: \n\nRecognize that all parties to a construction contract must anticipate changes and claims.\nBe more aware of the fundamentals of contracts and claims.\nGain perspective on the “universe of construction claims.”\nSee how the basic three-part test of a claim (entitlement\, causation\, and damages) applies to each type of claim.\nUnderstand burden of proof requirement all claimants (both owners &contractors) must meet.\nBetter understand how to analyze and settle or defend against construction claims.\nKnow ways owners and contractors must deal with construction claims situations and events.\nAppreciate the downside risk of leaving claims and disputes to fester until the end of a project.\n\nWebinar Addresses: \n\n¨ Contractor Claims vs Owner Claims and How to Analyze Them\n¨ Owner Claims – What Owners Must Prove\n¨ Claims Damages\n¨ Claims and Project Delivery Methods\n¨ Claims Analysis\n¨ Dispute Resolution Methods\n\nWho would benefit most from this program?   \n\nProject Owners\,\nOwner Representatives\,\nDesign Professionals\,\nConstruction Managers\,\nProject Managers & more\n\nRegister your team of 3 or more and SAVE $15.00/each. \nWCCC Members:   $90/each        Team of 3+ $75/each \nNon-Members:      $105/each     Team of 3+ $90/each \nNo-shows\, & cancellations after 3/3/26\, are subject to the full fee.  You may send Subs \nEvent Flyer: \nhttps://westerncouncil.org/wp-content/uploads/2026/02/3-5-2026-Webinar-Overview-of-Construction-Claims-Disputes-Flyer-Reg-Form.pdf
URL:https://westerncouncil.org/event/broadcast-webinar-overview-of-construction-claims-disputes/
CATEGORIES:Webinar
ATTACH;FMTTYPE=image/png:https://westerncouncil.org/wp-content/uploads/2021/11/CLAIMS-series-webinar.png
ORGANIZER;CN="Valerie Largin":MAILTO:vann@wccc.org
END:VEVENT
END:VCALENDAR