BEGIN:VCALENDAR
VERSION:2.0
PRODID:-//Western Council of Construction Consumers - ECPv6.15.20//NONSGML v1.0//EN
CALSCALE:GREGORIAN
METHOD:PUBLISH
X-WR-CALNAME:Western Council of Construction Consumers
X-ORIGINAL-URL:https://westerncouncil.org
X-WR-CALDESC:Events for Western Council of Construction Consumers
REFRESH-INTERVAL;VALUE=DURATION:PT1H
X-Robots-Tag:noindex
X-PUBLISHED-TTL:PT1H
BEGIN:VTIMEZONE
TZID:America/Los_Angeles
BEGIN:DAYLIGHT
TZOFFSETFROM:-0800
TZOFFSETTO:-0700
TZNAME:PDT
DTSTART:20210314T100000
END:DAYLIGHT
BEGIN:STANDARD
TZOFFSETFROM:-0700
TZOFFSETTO:-0800
TZNAME:PST
DTSTART:20211107T090000
END:STANDARD
BEGIN:DAYLIGHT
TZOFFSETFROM:-0800
TZOFFSETTO:-0700
TZNAME:PDT
DTSTART:20220313T100000
END:DAYLIGHT
BEGIN:STANDARD
TZOFFSETFROM:-0700
TZOFFSETTO:-0800
TZNAME:PST
DTSTART:20221106T090000
END:STANDARD
BEGIN:DAYLIGHT
TZOFFSETFROM:-0800
TZOFFSETTO:-0700
TZNAME:PDT
DTSTART:20230312T100000
END:DAYLIGHT
BEGIN:STANDARD
TZOFFSETFROM:-0700
TZOFFSETTO:-0800
TZNAME:PST
DTSTART:20231105T090000
END:STANDARD
BEGIN:DAYLIGHT
TZOFFSETFROM:-0800
TZOFFSETTO:-0700
TZNAME:PDT
DTSTART:20240310T100000
END:DAYLIGHT
BEGIN:STANDARD
TZOFFSETFROM:-0700
TZOFFSETTO:-0800
TZNAME:PST
DTSTART:20241103T090000
END:STANDARD
END:VTIMEZONE
BEGIN:VEVENT
DTSTART;TZID=America/Los_Angeles:20230810T080000
DTEND;TZID=America/Los_Angeles:20230810T153000
DTSTAMP:20260423T174644
CREATED:20211106T051345Z
LAST-MODIFIED:20230719T222815Z
UID:330-1691654400-1691681400@westerncouncil.org
SUMMARY:Virtual Western Council SAFETY SUMMIT
DESCRIPTION:Safety Summit focus is helping owners\, as well as design\, engineering\, construction and facilities management professionals\, explore important issues and principles that influence their ability to construct projects and maintain or improve facilities safely. \nSUMMIT Presentation Topics: \n\nMulti-Employer Worksites & Contractor Safety   Bill Mueller\, Hill International\, Inc.\n\n\nNew Safety Measures – What’s in Your Head Matters   Sue Dyer\, Author: The Trusted Leader\n\n\nConstruction Ergonomics   Ariana Ince\, Ergonomics Center at NCSU\n\n\nHealth and Safety Management on the Navajo Generating Station Retirement Project   Sunshine Pryor\, TetraTech\n\n\n“Changing the Game” – How AI Is Revolutionizing Workplace Safety   Jeff Wendorf & Jason Boettner\, Cobra Vision\n\n\nHow to be Fearless in the Face of an OSHA Inspection   Michael Rubin\, Ogletree Deakins\n\n\n8 Habits of a Highly Effective Safety Culture   Rod Courtney\, Ampirical\n\n\nThe Right Stuff – Owners Doing Safety Right   Michael Rubin\, Ogletree Deakins\n\n\nInspect\, Protect\, and Smile: A Comedic Journey through Special Inspections and Safety   Joe Kingston\, Smith-Emery\n\n\nSafety Change Management   Betty Wilson\, Hill International\, Inc.\n\n  \nThank you to our Platinum Sponsor: \n \nSee more details on the Safety Summit Page \nSafety Summit Flyer \nIf you RSVP below we will send you a registration payment link.
URL:https://westerncouncil.org/event/2023-wccc-safety-summit/
CATEGORIES:Virtual Summit
ATTACH;FMTTYPE=image/png:https://westerncouncil.org/wp-content/uploads/2021/12/Safety-Summit-Logo-wo-WCCC-logo.png
ORGANIZER;CN="Valerie Largin":MAILTO:vann@wccc.org
END:VEVENT
BEGIN:VEVENT
DTSTART;TZID=America/Los_Angeles:20220127T074500
DTEND;TZID=America/Los_Angeles:20220127T153000
DTSTAMP:20260423T174644
CREATED:20211105T060745Z
LAST-MODIFIED:20220118T193019Z
UID:253-1643269500-1643297400@westerncouncil.org
SUMMARY:Virtual - 8th Annual Western Council PROJECT CONTROLS SUMMIT
DESCRIPTION:The SUMMIT’s focus is helping owners and key design\, engineering\, controls\, and construction professionals gain a better understanding of important issues and principles that influence their ability to effectively and successfully meet their project\, financial\, and organizational goals. \nThe SUMMIT is Virtual for 2022!  While saving time and travel costs to attendees\, presenters and sponsors\, the virtual format allows people to attend from anywhere! \nLearn from presentations by: \n\nJulie Owen\, LA Metro\nMike Meredith\, CA Dept. of Gen. Services\nJagan Singh\, Judicial Council of California\nMegan Wells & Josh Chittick\, Ankura\nRoger Nelson\, Spire Consulting Group LLC\nJim Zack\, James Zack Consulting\nNatalie Saylor\, Saylor Consulting\nKeanu Daley & Katrina Petchey\, Currie & Brown\nLeo Sumner\, The Tiburon Group\n\nSee the Project Controls SUMMIT page for more details. \nDownload the FLYER \n Currently accepting Sponsors and Program advertisements.  \n Contact Valerie for details. \n 
URL:https://westerncouncil.org/event/8th-annual-wccc-project-controls-summit/
CATEGORIES:Virtual Summit
ATTACH;FMTTYPE=image/png:https://westerncouncil.org/wp-content/uploads/2021/11/PCSummit-1.png
END:VEVENT
END:VCALENDAR