BEGIN:VCALENDAR
VERSION:2.0
PRODID:-//Western Council of Construction Consumers - ECPv6.15.20//NONSGML v1.0//EN
CALSCALE:GREGORIAN
METHOD:PUBLISH
X-ORIGINAL-URL:https://westerncouncil.org
X-WR-CALDESC:Events for Western Council of Construction Consumers
REFRESH-INTERVAL;VALUE=DURATION:PT1H
X-Robots-Tag:noindex
X-PUBLISHED-TTL:PT1H
BEGIN:VTIMEZONE
TZID:America/Los_Angeles
BEGIN:DAYLIGHT
TZOFFSETFROM:-0800
TZOFFSETTO:-0700
TZNAME:PDT
DTSTART:20240310T100000
END:DAYLIGHT
BEGIN:STANDARD
TZOFFSETFROM:-0700
TZOFFSETTO:-0800
TZNAME:PST
DTSTART:20241103T090000
END:STANDARD
BEGIN:DAYLIGHT
TZOFFSETFROM:-0800
TZOFFSETTO:-0700
TZNAME:PDT
DTSTART:20250309T100000
END:DAYLIGHT
BEGIN:STANDARD
TZOFFSETFROM:-0700
TZOFFSETTO:-0800
TZNAME:PST
DTSTART:20251102T090000
END:STANDARD
BEGIN:DAYLIGHT
TZOFFSETFROM:-0800
TZOFFSETTO:-0700
TZNAME:PDT
DTSTART:20260308T100000
END:DAYLIGHT
BEGIN:STANDARD
TZOFFSETFROM:-0700
TZOFFSETTO:-0800
TZNAME:PST
DTSTART:20261101T090000
END:STANDARD
END:VTIMEZONE
BEGIN:VEVENT
DTSTART;TZID=America/Los_Angeles:20251016T100000
DTEND;TZID=America/Los_Angeles:20251016T113000
DTSTAMP:20260423T144803
CREATED:20240326T042253Z
LAST-MODIFIED:20250815T034306Z
UID:1852-1760608800-1760614200@westerncouncil.org
SUMMARY:Three New Safety Measures – What’s in Your Mind Matters
DESCRIPTION:Safety is defined as a state in which hazards and conditions leading to physical\, psychological\, or material harm are controlled to preserve the health and well-being of individuals and the community. \nIn construction\, when we think about safety\, we usually think about physical safety – keeping workers safe from accidents and injuries. \nBut there is much more to safety. Safety is more than a physical thing – it is also a “head thing.” \nIn this webinar\, you will learn: \n\nHow your brain has so much to do with project safety.\n3 safety brain “hacks” backed by science\, which can improve project safety and productivity by over 20%.\nSpecific tips and tools you can start using today to improve your overall project safety and productivity.\n\nWhen you stop looking at only the physical risks your employees face on your projects\, and start looking at the brain-created risks\, you will be able to break through to a whole new level of project safety. \n>> This is an excellent seminar for leaders\, managers\, and teams at all levels in all work settings. \nPresenter: Sue Dyer\, MBA\, MIPI\, is the Wall Street Journal bestselling author of her book\, The Trusted Leader. Founder of the International Partnering Institute\, she created the IPI Project Leader Certification training and designation.  She has helped over 4\,000 construction teams\, on projects worth $180 million+\, create high-trust high-performing teams.  She has broad industry experience\, serving as Executive Director of the United Contractors Association\, as well as six other construction associations.  As the “Godmother of Partnering\,” Sue developed the “Construction Scorecard” to help project teams steer their projects toward success.  In her ongoing study of project and leadership success she has noted some important safety factors which\, when addressed\, can make a tremendous difference in project safety. \nRegister a team of 3 or more from your organization and save $15 each! \nSee Flyer for complete details and registration information. \nRSVP using the form below and you will be sent a link to pay for your registration. \n 
URL:https://westerncouncil.org/event/three-new-safety-measures-whats-in-your-mind-matters/
CATEGORIES:Broadcast Webinar
ATTACH;FMTTYPE=image/jpeg:https://westerncouncil.org/wp-content/uploads/2025/08/Safety-webinar.jpg
ORGANIZER;CN="Valerie Largin":MAILTO:vann@wccc.org
END:VEVENT
BEGIN:VEVENT
DTSTART;TZID=America/Los_Angeles:20250918T100000
DTEND;TZID=America/Los_Angeles:20250918T113000
DTSTAMP:20260423T144803
CREATED:20240307T195355Z
LAST-MODIFIED:20250805T102731Z
UID:1785-1758189600-1758195000@westerncouncil.org
SUMMARY:Broadcast Webinar - Whole Life Carbon Assessment - Steps & Tools
DESCRIPTION:Buildings generate over 40% of greenhouse gas (GHG) emissions contributing to climate change.  Multiple simultaneous forces (severe weather\, natural disaster impacts\, regulations\, financial risk reporting\, government incentives\, public perception\, cheap renewable energy) are exerting intense pressure on construction to address our outsized climate impact.  Here and globally\, our industry needs to adopt a more proactive and data-driven course. \nTo meet published Net Zero Carbon (NZC) targets and avoid worst-case scenarios defined by Paris Accords (2015)\, we must aggressively measure and address the full extent of a building’s global warming potential (GWP) – known as its carbon footprint. For 30 years the industry and regulators focused on energy use\, production\, and conservation. We’ve made enormous progress toward better and more sustainable buildings through energy codes\, energy usage monitoring/measuring\, SMART controls\, and more thermally cooperative materials. \nRegrettably\, this is not enough even as we continue to improve the grid. We cannot “offset” our way out of it or reduce our energy use and production nearly enough to meet required carbon reduction challenges. We must aggressively eliminate emissions at the source\, by stopping emissions from happening in the first place. To do so\, we must make decarbonizing the built environment\, just the new normal way we work. \nWe all have a part to play\, not just Owners and Operators. Everyone in design\, engineering\, construction\, and building maintenance must contribute. Reducing carbon emitted by construction\, and reducing GHG emissions during operation is the only way to meet the challenge. \nHowever\, we cannot manage\, nor change and improve\, that which we do not measure. So\, the industry must reset by measuring ALL the GHG emissions from the built environment\, also known as whole life carbon.    \nThis webinar will drill down on the following:  \n\nWhere are the major carbon impacts in construction?\nWhy does this matter\, and especially right now?\nWhat is Whole Life Carbon (WLC) & Whole Life Carbon Assessment (WLCA)\nWhy focus on the embodied carbon impacts in construction?\nHow to do a carbon assessment and what gets measured?\nWhat tools can you use to do an assessment?\n\nPRESENTER:   \nMark Wartenberg is a consultant helping organizations de-carbonize both construction projects and existing buildings.  WLCM helps clients balance all project constraints (scope\, schedule\, budget\, risk) while integrating carbon as a constraint.  Analyzing the carbon impact of build programs\, while also considering cost and schedule impacts\, helps owners make informed decisions across their portfolios. \nRegister a team of 3 or more from your organization and save $15 each! \n\nSee Flyer for complete details and registration information. \nRSVP using the form below and you will be sent a link to pay for your registration. \n\n  \n 
URL:https://westerncouncil.org/event/whole-life-carbon-assessment-steps-tools/
CATEGORIES:Broadcast Webinar
ATTACH;FMTTYPE=image/jpeg:https://westerncouncil.org/wp-content/uploads/2024/03/7-27-2023-Carbon-scaled.jpg
ORGANIZER;CN="Valerie Largin":MAILTO:vann@wccc.org
END:VEVENT
END:VCALENDAR