BEGIN:VCALENDAR
VERSION:2.0
PRODID:-//Western Council of Construction Consumers - ECPv6.15.20//NONSGML v1.0//EN
CALSCALE:GREGORIAN
METHOD:PUBLISH
X-ORIGINAL-URL:https://westerncouncil.org
X-WR-CALDESC:Events for Western Council of Construction Consumers
REFRESH-INTERVAL;VALUE=DURATION:PT1H
X-Robots-Tag:noindex
X-PUBLISHED-TTL:PT1H
BEGIN:VTIMEZONE
TZID:America/Los_Angeles
BEGIN:DAYLIGHT
TZOFFSETFROM:-0800
TZOFFSETTO:-0700
TZNAME:PDT
DTSTART:20230312T100000
END:DAYLIGHT
BEGIN:STANDARD
TZOFFSETFROM:-0700
TZOFFSETTO:-0800
TZNAME:PST
DTSTART:20231105T090000
END:STANDARD
BEGIN:DAYLIGHT
TZOFFSETFROM:-0800
TZOFFSETTO:-0700
TZNAME:PDT
DTSTART:20240310T100000
END:DAYLIGHT
BEGIN:STANDARD
TZOFFSETFROM:-0700
TZOFFSETTO:-0800
TZNAME:PST
DTSTART:20241103T090000
END:STANDARD
BEGIN:DAYLIGHT
TZOFFSETFROM:-0800
TZOFFSETTO:-0700
TZNAME:PDT
DTSTART:20250309T100000
END:DAYLIGHT
BEGIN:STANDARD
TZOFFSETFROM:-0700
TZOFFSETTO:-0800
TZNAME:PST
DTSTART:20251102T090000
END:STANDARD
END:VTIMEZONE
BEGIN:VEVENT
DTSTART;TZID=America/Los_Angeles:20240501T104500
DTEND;TZID=America/Los_Angeles:20240501T120000
DTSTAMP:20260424T192910
CREATED:20240326T040602Z
LAST-MODIFIED:20240326T041459Z
UID:1841-1714560300-1714564800@westerncouncil.org
SUMMARY:Become an “Owner of Choice” - It Matters!
DESCRIPTION:Most Owners hope that their projects will come in on time\, on budget\, and work well for their end users.  But the truth is\, in 2023\, 70% of all construction projects in the U.S. did NOT come in on time or on budget.  \nMeanwhile\, some Owners consistently build extraordinary projects\, on time and on budget\, – without any claims.  What’s the difference? \nHOPING for success is NOT a strategy – but working to become an “Owner of Choice” is an excellent strategy.  \nDoing the same thing in the same way will not get you where you want to be. \n\nStop wasting your resources\nStart attracting the best of the best to your projects.\nEvery owner has the same choices for how they operate – make smart ones!\nLearn to become a trusted leader and operate using collaborative partnering as an operating system yields a great ROI\n\nIn this webinar you will learn: \nThe Key Benefits of being an “Owner of Choice” \n\nFor your projects\nFor your construction program\nIntangible benefits for your organization\nPersonal benefits for you\, as a leader\n\nThe Top 12 Indicators of an “Owner of Choice” \n\nSuccess leaves clues – What clues are your projects giving\nyou about your organization\, and about your leadership.\nIdentify your strengths and weaknesses in light of the 12 indicators\n\n3 Steps to becoming an “Owner of Choice” \nHow to Develop Your Own Strategy to become an “Owner of Choice” \n  \nRegister a team of 3 or more from your organization and save $15 each! \nSee Flyer for complete details and registration information. \nRSVP using the form below and you will be sent a link to pay for your registration. \n 
URL:https://westerncouncil.org/event/become-an-owner-of-choice-it-matters/
ATTACH;FMTTYPE=image/png:https://westerncouncil.org/wp-content/uploads/2021/10/webinar-320x180-1.png
ORGANIZER;CN="Valerie Largin":MAILTO:vann@wccc.org
END:VEVENT
END:VCALENDAR